{"text_format":"1","workbook":"xlsx","n_sheets":7,"sheets":["Données","ventes et encaissement","achat et décaissement","TVA","Budget de trésorerie","graphique","compte resultat"],"not_rendered":{"charts":5,"images":1,"macros":1,"external_links":0,"defined_names":0,"comments":0,"pivot_tables":0},"unopened":[],"bounds":{"document_bytes":16777216,"sheet_cells":100000,"rows_first":2000,"rows_last":500,"rows_between":2000,"halvings":0,"cell_chars":16384,"cell_head_chars":4096},"cells_cut":0,"cells_raw":0,"read":"whole","date_system":"1900"}

{"sheet":"Données","index":0,"n_rows":22,"n_cols":7,"rows_kept":22,"cut":false,"hidden":false,"merged":[]}
["Objectif de ventes annuelles",27000,null,"Répartition des ventes de l'année"]
["Ventes planchas",null,null,"Janvier à mars","avril à juin","Juillet à septembre","Octobre à décembre"]
["Prix de vente",230,null,0.05,0.55000000000000004,0.25,0.15]
["Prix d'achat",185]
[]
["Taux de TVA",0.19600000000000001]
[]
["Charges fixes mensuelles"]
["Loyers",9000]
["charges de personnel",35000]
["Impôts et taxes",2500]
["total des charges fixes",{"$f":"SUM(B9:B11)","v":46500}]
[]
["Trésorerie initiale au 1 janvier",100000]
[]
["Délai de règlement (en mois)"]
["Clients ( 1 ou 2 )",2]
["fournisseurs",1]
[]
[]
[]
[null,null,null,"planchas"]

{"sheet":"ventes et encaissement","index":1,"n_rows":24,"n_cols":17,"rows_kept":24,"cut":false,"hidden":false,"merged":[[11,0,22,0]]}
[null,"Ventes "]
[]
[null,null,"janvier","février","mars","avril","mai","juin","juillet","août","septembre","octobre","novembre","décembre"]
[null,"ventes planchas"]
[null,"Ventes ht",{"$f":"Données!$B$1*Données!$D$3*Données!$B$3","v":310500},{"$f":"Données!$B$1*Données!$D$3*Données!$B$3","v":310500},{"$f":"Données!$B$1*Données!$D$3*Données!$B$3","v":310500},{"$f":"Données!$B$1*Données!$E$3*Données!$B$3","v":3415500.0000000005},{"$f":"Données!$B$1*Données!$E$3*Données!$B$3","v":3415500.0000000005},{"$f":"Données!$B$1*Données!$E$3*Données!$B$3","v":3415500.0000000005},{"$f":"Données!$B$1*Données!$F$3*Données!$B$3","v":1552500},{"$f":"Données!$B$1*Données!$F$3*Données!$B$3","v":1552500},{"$f":"Données!$B$1*Données!$F$3*Données!$B$3","v":1552500},{"$f":"Données!$B$1*Données!$G$3*Données!$B$3","v":931500},{"$f":"Données!$B$1*Données!$G$3*Données!$B$3","v":931500},{"$f":"Données!$B$1*Données!$G$3*Données!$B$3","v":931500},null,{"$f":"SUM(C5:O5)","v":18630000}]
[null,"TVA",{"$f":"Données!$B$6*C5","v":60858},{"$f":"Données!$B$6*D5","v":60858},{"$f":"Données!$B$6*E5","v":60858},{"$f":"Données!$B$6*F5","v":669438.00000000012},{"$f":"Données!$B$6*G5","v":669438.00000000012},{"$f":"Données!$B$6*H5","v":669438.00000000012},{"$f":"Données!$B$6*I5","v":304290},{"$f":"Données!$B$6*J5","v":304290},{"$f":"Données!$B$6*K5","v":304290},{"$f":"Données!$B$6*L5","v":182574},{"$f":"Données!$B$6*M5","v":182574},{"$f":"Données!$B$6*N5","v":182574}]
[null,"Ventes ttc",{"$f":"C5+C6","v":371358},371358,371358,4084938.0000000005,4084938.0000000005,4084938.0000000005,1856790,1856790,1856790,1114074,1114074,1114074]
[]
[null,"Encaissements"]
[]
[null,null,"janvier","février","mars","avril","mai","juin","juillet","août","septembre","octobre","novembre","décembre","janvier"]
["Ventes","Janvier",{"$f":"IF(Données!B14=1466814,1114074,600000)","v":600000},{"$f":"IF(Données!$B$17=1,C7,C12)","v":600000},{"$f":"IF(Données!B17=2,C7,0)","v":371358}]
[null,"Février",null,null,{"$f":"IF(Données!B17=1,D7,0)","v":0},{"$f":"IF(Données!B17=2,D7,0)","v":371358}]
[null,"Mars",null,null,null,{"$f":"IF(Données!B17=1,E7,0)","v":0},{"$f":"IF(Données!B17=2,E7,0)","v":371358}]
[null,"Avril",null,null,null,null,{"$f":"IF(Données!$B$17=1,F7,0)","v":0},{"$f":"IF(Données!$B$17=2,F7,0)","v":4084938.0000000005}]
[null,"Mai",null,null,null,null,null,{"$f":"IF(Données!$B$17=1,G7,0)","v":0},{"$f":"IF(Données!$B$17=2,G7,0)","v":4084938.0000000005}]
[null,"Juin",null,null,null,null,null,null,{"$f":"IF(Données!$B$17=1,H7,0)","v":0},{"$f":"IF(Données!$B$17=2,H7,0)","v":4084938.0000000005}]
[null,"Juillet",null,null,null,null,null,null,null,{"$f":"IF(Données!$B$17=1,I7,0)","v":0},{"$f":"IF(Données!$B$17=2,I7,0)","v":1856790}]
[null,"Août",null,null,null,null,null,null,null,null,{"$f":"IF(Données!$B$17=1,J7,0)","v":0},{"$f":"IF(Données!$B$17=2,J7,0)","v":1856790}]
[null,"Septembre",null,null,null,null,null,null,null,null,null,{"$f":"IF(Données!$B$17=1,K7,0)","v":0},{"$f":"IF(Données!$B$17=2,K7,0)","v":1856790}]
[null,"Octobre",null,null,null,null,null,null,null,null,null,null,{"$f":"IF(Données!$B$17=1,L7,0)","v":0},{"$f":"IF(Données!$B$17=2,L7,0)","v":1114074}]
[null,"Novembre",null,null,null,null,null,null,null,null,null,null,null,{"$f":"IF(Données!$B$17=1,M7,0)","v":0},{"$f":"IF(Données!$B$17=1,N7,0)","v":0}]
[null,"Décembre",null,null,null,null,null,null,null,null,null,null,null,null,{"$f":"IF(Données!$B$17=2,M7,0)","v":1114074},{"$f":"N7","v":1114074},{"$f":"N7","v":1114074}]
[null,"Total encaissement",{"$f":"SUM(C12:C23)","v":600000},{"$f":"SUM(D12:D23)","v":600000},{"$f":"SUM(E12:E23)","v":371358},371358,371358,4084938.0000000005,4084938.0000000005,4084938.0000000005,1856790,1856790,1856790,1114074,1114074]

{"sheet":"achat et décaissement","index":2,"n_rows":26,"n_cols":16,"rows_kept":26,"cut":false,"hidden":false,"merged":[[13,0,24,0]]}
[null,"achats "]
[null,null,"janvier","février","mars","avril","mai","juin","juillet","août","septembre","octobre","novembre","décembre"]
[null,"achats planchas"]
[null,"Achat HT",{"$f":"Données!$B$1*Données!$B$4*Données!$D$3","v":249750},{"$f":"Données!$B$1*Données!$B$4*Données!$D$3","v":249750},{"$f":"Données!$B$1*Données!$B$4*Données!$D$3","v":249750},{"$f":"Données!$B$1*Données!$B$4*Données!$E$3","v":2747250},{"$f":"Données!$B$1*Données!$B$4*Données!$E$3","v":2747250},{"$f":"Données!$B$1*Données!$B$4*Données!$E$3","v":2747250},{"$f":"Données!$B$1*Données!$B$4*Données!$G$3","v":749250},{"$f":"Données!$B$1*Données!$B$4*Données!$F$3","v":1248750},{"$f":"Données!$B$1*Données!$B$4*Données!$F$3","v":1248750},{"$f":"Données!$B$1*Données!$B$4*Données!$F$3","v":1248750},{"$f":"Données!$B$1*Données!$B$4*Données!$F$3","v":1248750},{"$f":"Données!$B$1*Données!$B$4*Données!$F$3","v":1248750},null,{"$f":"SUM(C4:N4)","v":15984000}]
[null,"TVA",{"$f":"C4*Données!$B$6","v":48951},{"$f":"D4*Données!$B$6","v":48951},{"$f":"E4*Données!$B$6","v":48951},{"$f":"F4*Données!$B$6","v":538461},{"$f":"G4*Données!$B$6","v":538461},{"$f":"H4*Données!$B$6","v":538461},{"$f":"I4*Données!$B$6","v":146853},{"$f":"J4*Données!$B$6","v":244755},{"$f":"K4*Données!$B$6","v":244755},{"$f":"L4*Données!$B$6","v":244755},{"$f":"M4*Données!$B$6","v":244755},{"$f":"N4*Données!$B$6","v":244755}]
[null,0.19600000000000001,{"$f":"C4+C5","v":298701},{"$f":"D4+D5","v":298701},298701,3285711,3285711,3285711,896103,1493505,1493505,1493505,1493505,1493505]
[]
[null,"Budget des décaissements "]
[null,null,"janvier","février","mars","avril","mai","juin","juillet","août","septembre","octobre","novembre","décembre"]
[null,"Loyers",{"$f":"Données!$B$9","v":9000},{"$f":"Données!$B$9","v":9000},{"$f":"Données!$B$9","v":9000},{"$f":"Données!$B$9","v":9000},{"$f":"Données!$B$9","v":9000},{"$f":"Données!$B$9","v":9000},{"$f":"Données!$B$9","v":9000},{"$f":"Données!$B$9","v":9000},{"$f":"Données!$B$9","v":9000},{"$f":"Données!$B$9","v":9000},{"$f":"Données!$B$9","v":9000},{"$f":"Données!$B$9","v":9000},null,{"$f":"SUM(C10:N10)","v":108000}]
[null,"charges personnel",{"$f":"Données!$B$10","v":35000},{"$f":"Données!$B$10","v":35000},{"$f":"Données!$B$10","v":35000},{"$f":"Données!$B$10","v":35000},{"$f":"Données!$B$10","v":35000},{"$f":"Données!$B$10","v":35000},{"$f":"Données!$B$10","v":35000},{"$f":"Données!$B$10","v":35000},{"$f":"Données!$B$10","v":35000},{"$f":"Données!$B$10","v":35000},{"$f":"Données!$B$10","v":35000},{"$f":"Données!$B$10","v":35000},null,{"$f":"SUM(C11:N11)","v":420000}]
[null,"TVA",null,{"$f":"TVA!B8","v":11907},{"$f":"TVA!C8","v":11907},{"$f":"TVA!D8","v":11907},{"$f":"TVA!E8","v":130977.00000000012},{"$f":"TVA!F8","v":130977.00000000012},{"$f":"TVA!G8","v":130977.00000000012},{"$f":"TVA!H8","v":157437},{"$f":"TVA!I8","v":59535},{"$f":"TVA!J8","v":59535},{"$f":"TVA!K8","v":0},{"$f":"TVA!L8","v":0},{"$f":"TVA!M8","v":0},705159.00000000035]
[null,"Impots et taxes",{"$f":"Données!$B$11","v":2500},{"$f":"Données!$B$11","v":2500},{"$f":"Données!$B$11","v":2500},{"$f":"Données!$B$11","v":2500},{"$f":"Données!$B$11","v":2500},{"$f":"Données!$B$11","v":2500},{"$f":"Données!$B$11","v":2500},{"$f":"Données!$B$11","v":2500},{"$f":"Données!$B$11","v":2500},{"$f":"Données!$B$11","v":2500},{"$f":"Données!$B$11","v":2500},{"$f":"Données!$B$11","v":2500},null,30000]
["Achats","Janvier",1000000,{"$f":"C6","v":298701},null,null,null,null,null,null,null,null,null,null,{"$f":"N6","v":1493505}]
[null,"Fevrier",null,null,{"$f":"D6","v":298701}]
[null,"Mars",null,null,null,{"$f":"E6","v":298701}]
[null,"Avril",null,null,null,null,{"$f":"F6","v":3285711}]
[null,"Mai",null,null,null,null,null,{"$f":"G6","v":3285711}]
[null,"Juin",null,null,null,null,null,null,{"$f":"H6","v":3285711}]
[null,"Juillet",null,null,null,null,null,null,null,{"$f":"I6","v":896103}]
[null,"Août",null,null,null,null,null,null,null,null,{"$f":"J6","v":1493505}]
[null,"Septembre",null,null,null,null,null,null,null,null,null,{"$f":"K6","v":1493505}]
[null,"Octobre",null,null,null,null,null,null,null,null,null,null,{"$f":"L6","v":1493505}]
[null,"Novembre",null,null,null,null,null,null,null,null,null,null,null,{"$f":"M6","v":1493505}]
[null,"Décembre",null,null,null,null,null,null,null,null,null,null,null,null,{"$f":"N6","v":1493505}]
[null,"totaux décaissements",{"$f":"SUM(C10:C25)","v":1046500},{"$f":"SUM(D10:D25)","v":357108},357108,357108,3463188,3463188,3463188,1100040,1599540,1599540,1540005,1540005,2987010]

{"sheet":"TVA","index":3,"n_rows":10,"n_cols":14,"rows_kept":10,"cut":false,"hidden":false,"merged":[]}
["Budget de TVA"]
[]
[null,"janvier ","février","mars","avril","mai","juin","juillet","août","septembre","octobre","novembre","décembre","janvier n+1"]
["TVA collectée",{"$f":"'ventes et encaissement'!C6","v":60858},{"$f":"'ventes et encaissement'!D6","v":60858},{"$f":"'ventes et encaissement'!E6","v":60858},{"$f":"'ventes et encaissement'!F6","v":669438.00000000012},{"$f":"'ventes et encaissement'!G6","v":669438.00000000012},{"$f":"'ventes et encaissement'!H6","v":669438.00000000012},{"$f":"'ventes et encaissement'!I6","v":304290},{"$f":"'ventes et encaissement'!J6","v":304290},{"$f":"'ventes et encaissement'!K6","v":304290},{"$f":"'ventes et encaissement'!L6","v":182574},{"$f":"'ventes et encaissement'!M6","v":182574},{"$f":"'ventes et encaissement'!N6","v":182574},{"$f":"'ventes et encaissement'!O6","v":0}]
["TVA déductible sur ABS",{"$f":"'achat et décaissement'!C5","v":48951},{"$f":"'achat et décaissement'!D5","v":48951},{"$f":"'achat et décaissement'!E5","v":48951},{"$f":"'achat et décaissement'!F5","v":538461},{"$f":"'achat et décaissement'!G5","v":538461},{"$f":"'achat et décaissement'!H5","v":538461},{"$f":"'achat et décaissement'!I5","v":146853},{"$f":"'achat et décaissement'!J5","v":244755},{"$f":"'achat et décaissement'!K5","v":244755},{"$f":"'achat et décaissement'!L5","v":244755},{"$f":"'achat et décaissement'!M5","v":244755},{"$f":"'achat et décaissement'!N5","v":244755},{"$f":"'achat et décaissement'!O5","v":0}]
["TVA déductible sur immos"]
["report crédit tva",null,{"$f":"B9","v":0},0,0,0,0,0,0,0,0,62181,124362,186543]
["tva à décaisser",{"$f":"IF(B4-(B5+B6+B7)>0,(B4-B5-B6-B7),0)","v":11907},11907,11907,130977.00000000012,130977.00000000012,130977.00000000012,157437,59535,59535,0,0,0,{"$f":"IF(N4-(N5+N6+N7)>0,(N4-N5-N6-N7),0)","v":0}]
["crédit tva",{"$f":"IF(B4-(B5+B6+B7)<0,(B5+B6+B7)-B4,0)","v":0},0,0,0,0,0,0,0,0,62181,124362,186543,{"$f":"IF(N4-(N5+N6+N7)<0,(N5+N6+N7)-N4,0)","v":186543}]
["remboursement tva par état"]

{"sheet":"Budget de trésorerie","index":4,"n_rows":7,"n_cols":15,"rows_kept":7,"cut":false,"hidden":false,"merged":[]}
["Budget de trésorerie"]
[null,"janvier","février","mars","avril","mai","juin","juillet","août","septembre","octobre","novembre","décembre"]
["Trésorerie initiale",{"$f":"Données!B14","v":100000},{"$f":"B6","v":-346500},{"$f":"C6","v":-103608},-89358,-75108,-3166938,-2545187.9999999995,-1923437.9999999991,1061460.0000000014,1318710.0000000014,1575960.0000000014,1892745.0000000014]
["Encaissements",{"$f":"'ventes et encaissement'!C24","v":600000},{"$f":"'ventes et encaissement'!D24","v":600000},{"$f":"'ventes et encaissement'!E24","v":371358},{"$f":"'ventes et encaissement'!F24","v":371358},{"$f":"'ventes et encaissement'!G24","v":371358},{"$f":"'ventes et encaissement'!H24","v":4084938.0000000005},{"$f":"'ventes et encaissement'!I24","v":4084938.0000000005},{"$f":"'ventes et encaissement'!J24","v":4084938.0000000005},{"$f":"'ventes et encaissement'!K24","v":1856790},{"$f":"'ventes et encaissement'!L24","v":1856790},{"$f":"'ventes et encaissement'!M24","v":1856790},{"$f":"'ventes et encaissement'!N24","v":1114074},{"$f":"'ventes et encaissement'!M7","v":1114074},{"$f":"'ventes et encaissement'!N7","v":1114074}]
["Décaissements",{"$f":"'achat et décaissement'!C26","v":1046500},{"$f":"'achat et décaissement'!D26","v":357108},{"$f":"'achat et décaissement'!E26","v":357108},{"$f":"'achat et décaissement'!F26","v":357108},{"$f":"'achat et décaissement'!G26","v":3463188},{"$f":"'achat et décaissement'!H26","v":3463188},{"$f":"'achat et décaissement'!I26","v":3463188},{"$f":"'achat et décaissement'!J26","v":1100040},{"$f":"'achat et décaissement'!K26","v":1599540},{"$f":"'achat et décaissement'!L26","v":1599540},{"$f":"'achat et décaissement'!M26","v":1540005},{"$f":"'achat et décaissement'!N26","v":1540005}]
["Trésorerie finale",{"$f":"B3+B4-B5","v":-346500},{"$f":"C3+C4-C5","v":-103608},-89358,-75108,-3166938,-2545187.9999999995,-1923437.9999999991,1061460.0000000014,1318710.0000000014,1575960.0000000014,1892745.0000000014,1466814.0000000014]
[null,{"$f":"B6/1000","v":-346.5},{"$f":"C6/1000","v":-103.608},-89.358000000000004,-75.108000000000004,-3166.9380000000001,-2545.1879999999996,-1923.437999999999,1061.4600000000014,1318.7100000000014,1575.9600000000014,1892.7450000000015,1466.8140000000014]

{"sheet":"graphique","index":5,"n_rows":0,"n_cols":0,"rows_kept":0,"cut":false,"hidden":false,"merged":[]}

{"sheet":"compte resultat","index":6,"n_rows":26,"n_cols":4,"rows_kept":26,"cut":false,"hidden":false,"merged":[]}
[]
["Compte de résultat prévisionnel"]
["Charges",null,"produits"]
["Achats",{"$f":"'achat et décaissement'!P4","v":15984000},"Ventes",{"$f":"'ventes et encaissement'!$P$5","v":18630000}]
[{"$f":"'achat et décaissement'!B10","v":"Loyers"},{"$f":"SUM('achat et décaissement'!P10)","v":108000}]
[{"$f":"'achat et décaissement'!B11","v":"charges personnel"},{"$f":"SUM('achat et décaissement'!P11)","v":420000}]
[{"$f":"'achat et décaissement'!B13","v":"Impots et taxes"},{"$f":"SUM('achat et décaissement'!P13)","v":30000}]
[]
[null,{"$f":"SUM(B4:B8)","v":16542000}]
["résultat",{"$f":"D4-B9","v":2088000}]
[]
[]
["compte résultat différentiel"]
["C affaires",{"$f":"D4","v":18630000}]
["Charges variables",{"$f":"B4","v":15984000}]
["Marge / cout variable",{"$f":"B14-B15","v":2646000},{"$f":"B16/B14","v":0.14202898550724638}]
["Charges fixes",{"$f":"B5+B6+B7","v":558000}]
["Résultat ",{"$f":"B16-B17","v":2088000}]
[]
["seuil de rentabilité ",{"$f":"(B14*B17)/B16","v":3928775.5102040814}]
["Nombre bbq",{"$f":"ROUNDDOWN(B20/Données!B3,0)","v":17081}]
[]
["Point Mort ",{"$f":"(B20/B14)*365","v":"1900-03-16T23:20:48.980"}]
[]
["Marge de sécurité",{"$f":"B14-B20","v":14701224.48979592}]
["Indice de sécurité",{"$f":"(B25/B14)","v":0.7891156462585035}]